BEGIN:VCALENDAR
VERSION:2.0
PRODID:-//Tennessee Lawyers Assistance Program - TLAP - ECPv6.15.20//NONSGML v1.0//EN
CALSCALE:GREGORIAN
METHOD:PUBLISH
X-ORIGINAL-URL:https://tlap.org
X-WR-CALDESC:Events for Tennessee Lawyers Assistance Program - TLAP
REFRESH-INTERVAL;VALUE=DURATION:PT1H
X-Robots-Tag:noindex
X-PUBLISHED-TTL:PT1H
BEGIN:VTIMEZONE
TZID:America/New_York
BEGIN:DAYLIGHT
TZOFFSETFROM:-0500
TZOFFSETTO:-0400
TZNAME:EDT
DTSTART:20230312T070000
END:DAYLIGHT
BEGIN:STANDARD
TZOFFSETFROM:-0400
TZOFFSETTO:-0500
TZNAME:EST
DTSTART:20231105T060000
END:STANDARD
BEGIN:DAYLIGHT
TZOFFSETFROM:-0500
TZOFFSETTO:-0400
TZNAME:EDT
DTSTART:20240310T070000
END:DAYLIGHT
BEGIN:STANDARD
TZOFFSETFROM:-0400
TZOFFSETTO:-0500
TZNAME:EST
DTSTART:20241103T060000
END:STANDARD
BEGIN:DAYLIGHT
TZOFFSETFROM:-0500
TZOFFSETTO:-0400
TZNAME:EDT
DTSTART:20250309T070000
END:DAYLIGHT
BEGIN:STANDARD
TZOFFSETFROM:-0400
TZOFFSETTO:-0500
TZNAME:EST
DTSTART:20251102T060000
END:STANDARD
END:VTIMEZONE
BEGIN:VTIMEZONE
TZID:America/Chicago
BEGIN:DAYLIGHT
TZOFFSETFROM:-0600
TZOFFSETTO:-0500
TZNAME:CDT
DTSTART:20250309T080000
END:DAYLIGHT
BEGIN:STANDARD
TZOFFSETFROM:-0500
TZOFFSETTO:-0600
TZNAME:CST
DTSTART:20251102T070000
END:STANDARD
BEGIN:DAYLIGHT
TZOFFSETFROM:-0600
TZOFFSETTO:-0500
TZNAME:CDT
DTSTART:20260308T080000
END:DAYLIGHT
BEGIN:STANDARD
TZOFFSETFROM:-0500
TZOFFSETTO:-0600
TZNAME:CST
DTSTART:20261101T070000
END:STANDARD
BEGIN:DAYLIGHT
TZOFFSETFROM:-0600
TZOFFSETTO:-0500
TZNAME:CDT
DTSTART:20270314T080000
END:DAYLIGHT
BEGIN:STANDARD
TZOFFSETFROM:-0500
TZOFFSETTO:-0600
TZNAME:CST
DTSTART:20271107T070000
END:STANDARD
END:VTIMEZONE
BEGIN:VEVENT
DTSTART;VALUE=DATE:20240405
DTEND;VALUE=DATE:20240408
DTSTAMP:20260422T175021
CREATED:20240123T171802Z
LAST-MODIFIED:20240123T173106Z
UID:3465-1712275200-1712534399@tlap.org
SUMMARY:Camp TLAP 2024
DESCRIPTION:TLAP is excited to announce the dates for the 18th annual Camp TLAP event! \nRegistration will be open beginning in February. \n  \nEventbrite link to follow.
URL:https://tlap.org/event/camp-tlap-2024/
LOCATION:The Lodge at Montgomery Bell State Park\, 1000 Hotel Avenue\, Burns\, TN\, 37029\, United States
CATEGORIES:Event
ATTACH;FMTTYPE=image/png:https://tlap.org/wp-content/uploads/2024/01/Camp-TLAP-Save-the-Date.png
END:VEVENT
BEGIN:VEVENT
DTSTART;TZID=America/Chicago:20260410T160000
DTEND;TZID=America/Chicago:20260412T120000
DTSTAMP:20260422T175021
CREATED:20250602T142839Z
LAST-MODIFIED:20260402T150834Z
UID:3619-1775836800-1775995200@tlap.org
SUMMARY:Camp TLAP 2026
DESCRIPTION:Save the date\, Camp TLAP 2026 dates are here! \n  \nWhere: The Lodge at Montgomery Bell State Park \n1000 Hotel Avenue\, Burns\, TN 37029 \nWhen: April 10 – April 12 \, 2026 \nRegister now at Humanitix \n \n 
URL:https://tlap.org/event/camp-tlap-2026/
LOCATION:The Lodge at Montgomery Bell State Park\, 1000 Hotel Avenue\, Burns\, TN\, 37029\, United States
END:VEVENT
END:VCALENDAR